BEGIN:VCALENDAR
VERSION:2.0
PRODID:-//wp-events-plugin.com//7.2.2.1//EN
BEGIN:VEVENT
UID:2@canvassglobal.com
DTSTART;TZID=America/Toronto:20251014T130000
DTEND;TZID=America/Toronto:20251014T140000
DTSTAMP:20251013T232349Z
URL:https://canvassglobal.com/events/privacy-security-webinar/
SUMMARY:Privacy & Security Webinar
DESCRIPTION:Comprehensive overview of our privacy framework\, data encrypti
 on\, and security measures. Learn how we protect camera owner data while e
 nabling effective law enforcement collaboration.\n\nCommunity volunteers a
 nd patrol officers in a downtown business district located a missing 82‑
 year‑old resident within hours after a Silver Alert was issued on a humi
 d summer evening. The swift outcome hinged on something the city’s emerg
 ency operations team has been quietly building for years: a camera registr
 y and a set of cooperative protocols that let police request access to nea
 rby business cameras during urgent\, time‑bound searches.\n\nAccording t
 o the city’s emergency management director\, the operation began with a 
 last‑seen report near a transit stop. Dispatchers issued a geo‑fenced 
 alert to merchants enrolled in the registry\, asking them to review footag
 e from the previous 30 minutes for a distinctive blue windbreaker and cane
 . A grocery store two blocks away confirmed the senior had passed through 
 the corridor shortly after 6 p.m. Officers canvassed adjacent blocks while
  the store exported a short clip for investigators.\n\nThe registry—volu
 ntary and opt‑in—does not provide remote or continuous police access. 
 Instead\, it lists camera locations and points of contact and outlines how
  to quickly share time‑restricted clips when a life‑safety incident is
  underway. This type of cooperative approach is widely recommended in impl
 ementation guides for municipal CCTV programs\, which emphasize clear gove
 rnance\, limited retention\, and auditable request workflows.\n\nFrom the 
 grocery store\, the trail moved east. A fitness studio contributed a secon
 d clip showing the senior taking a brief rest on a bench\; a parking‑gar
 age camera captured the same blue jacket cutting across an alley. By the t
 ime officers reached a riverfront promenade\, a parks maintenance worker
 —prompted by the alert and a description pushed to his phone—spotted t
 he individual seated on a low wall\, confused but in stable condition. Par
 amedics conducted a precautionary assessment and reunited the resident wit
 h family later that evening.\n\nBeyond the human outcome\, the case offers
  a concrete example of how cameras contribute to community safety when emb
 edded in policy. Academic evaluations have consistently found that CCTV ca
 n help investigations and can deter certain crimes in targeted locations
 —especially parking facilities and transit corridors—when combined wit
 h other measures like lighting and patrols. The Urban Institute’s study 
 of Chicago’s camera program reported investigative value in cases where 
 footage provided leads or corroborated witness accounts\, while the UK Col
 lege of Policing notes stronger effects where schemes are well maintained 
 and clearly signed.\n\nCivil‑liberties advocates\, meanwhile\, point out
  that guardrails are essential. In this city\, the camera registry is publ
 ic\, participation is voluntary\, and data sharing is governed by a short 
 retention window (typically 30 days on the business side\, less for export
 ed clips) and documented request IDs. Requests are limited to specific tim
 e ranges tied to an incident number\, and exports are stored in an evidenc
 e system with chain‑of‑custody logging. Officers receive annual traini
 ng on acceptable uses and on handling footage that may inadvertently captu
 re uninvolved passersby.\n\nThe mayor’s office says the registry now inc
 ludes more than 600 cameras from small businesses\, property managers\, an
 d a handful of residential associations. There is no live feed aggregation
 \; instead\, the value lies in time‑sensitive cooperation during kidnapp
 ings\, missing‑person cases\, and hit‑and‑run investigations. To enc
 ourage participation\, the city distributed guidance on camera placement (
 avoid windows into residences)\, signage\, and privacy‑aware field of vi
 ew\, echoing best practices from U.S. Department of Justice and UK oversig
 ht bodies.\n\nFor families like the one at the center of this week’s sea
 rch\, that planning made all the difference. “The volunteers and shopkee
 pers were incredible\,” a relative said in a statement. “We’re grate
 ful the city had a plan to coordinate everyone quickly while respecting pe
 ople’s privacy.”\n\n&nbsp\;
CATEGORIES:Webinar
END:VEVENT
BEGIN:VTIMEZONE
TZID:America/Toronto
X-LIC-LOCATION:America/Toronto
BEGIN:DAYLIGHT
DTSTART:20250309T030000
TZOFFSETFROM:-0500
TZOFFSETTO:-0400
TZNAME:EDT
END:DAYLIGHT
END:VTIMEZONE
END:VCALENDAR