BEGIN:VCALENDAR
VERSION:2.0
PRODID:-//wp-events-plugin.com//7.2.2.1//EN
BEGIN:VEVENT
UID:1@canvassglobal.com
DTSTART;TZID=America/Toronto:20251030T100000
DTEND;TZID=America/Toronto:20251030T120000
DTSTAMP:20251011T022924Z
URL:https://canvassglobal.com/events/mobile-app-beta-launch/
SUMMARY:Mobile App Beta Launch
DESCRIPTION:Beta launch of our mobile application for camera owners. Get ea
 rly access to mobile notifications\, camera management\, and quick respons
 e features.
CATEGORIES:Launch
END:VEVENT
BEGIN:VTIMEZONE
TZID:America/Toronto
X-LIC-LOCATION:America/Toronto
BEGIN:DAYLIGHT
DTSTART:20250309T030000
TZOFFSETFROM:-0500
TZOFFSETTO:-0400
TZNAME:EDT
END:DAYLIGHT
END:VTIMEZONE
END:VCALENDAR